BEGIN:VCALENDAR
VERSION:2.0
PRODID:-//Eventin//Event Calendar//EN
CALSCALE:GREGORIAN
METHOD:PUBLISH
BEGIN:VEVENT
UID:a7a99da78c9c50771f7dc122e12616b6@ruahinternational.marketingwithkelby.c
 om
SUMMARY:Wednesday Night Bible Study
DESCRIPTION:Join us for Wednesday Night Bible Study at Ruah International M
 inistry—a powerful time of teaching\, learning\, and spiritual growth cen
 tered on Jesus Christ. This midweek gathering is designed to help you dive 
 deeper into God’s Word\, strengthen your faith\, and grow alongside a com
 munity of believers. Whether you’re seasoned in the Word or just starting
  your journey\, you are welcome here.\nDay: WednesdayTime: 7:30 PMLocation:
  9510 Richmond Hwy\, Lorton\, VA 22079
LOCATION:9510 Richmond Hwy\, Lorton\, VA 22079
DTSTAMP:20260423T024832Z
DTSTART:20260819T233000Z
DTEND:20260820T010000Z
END:VEVENT
END:VCALENDAR
